BEGIN:VCALENDAR
VERSION:2.0
PRODID:-//Morey Airplane Company - ECPv6.15.11//NONSGML v1.0//EN
CALSCALE:GREGORIAN
METHOD:PUBLISH
X-ORIGINAL-URL:https://www.moreyairport.com
X-WR-CALDESC:Events for Morey Airplane Company
REFRESH-INTERVAL;VALUE=DURATION:PT1H
X-Robots-Tag:noindex
X-PUBLISHED-TTL:PT1H
BEGIN:VTIMEZONE
TZID:America/Chicago
BEGIN:DAYLIGHT
TZOFFSETFROM:-0600
TZOFFSETTO:-0500
TZNAME:CDT
DTSTART:20250309T080000
END:DAYLIGHT
BEGIN:STANDARD
TZOFFSETFROM:-0500
TZOFFSETTO:-0600
TZNAME:CST
DTSTART:20251102T070000
END:STANDARD
BEGIN:DAYLIGHT
TZOFFSETFROM:-0600
TZOFFSETTO:-0500
TZNAME:CDT
DTSTART:20260308T080000
END:DAYLIGHT
BEGIN:STANDARD
TZOFFSETFROM:-0500
TZOFFSETTO:-0600
TZNAME:CST
DTSTART:20261101T070000
END:STANDARD
BEGIN:DAYLIGHT
TZOFFSETFROM:-0600
TZOFFSETTO:-0500
TZNAME:CDT
DTSTART:20270314T080000
END:DAYLIGHT
BEGIN:STANDARD
TZOFFSETFROM:-0500
TZOFFSETTO:-0600
TZNAME:CST
DTSTART:20271107T070000
END:STANDARD
END:VTIMEZONE
BEGIN:VEVENT
DTSTART;TZID=America/Chicago:20260330T180000
DTEND;TZID=America/Chicago:20260330T203000
DTSTAMP:20260424T093151
CREATED:20260220T225307Z
LAST-MODIFIED:20260220T225307Z
UID:5915-1774893600-1774902600@www.moreyairport.com
SUMMARY:Wings Seminar: Accidents Reviewed
DESCRIPTION:If you fly Airplanes and You want to learn from other pilots mistakes\, then you need to come to this FAA Safety Seminar. \nJurg Grossenbacher\, FPM from the Milwaukee FAA\, will speak on this topic. We will discuss the issues that are hurting our GA pilots but\, more importantly\, on the topic of what you can do to stay safe and proficient throughout the year. \nWe will talk about Knowledge and Flight Training in detail. We will discuss the programs available to you right here in Wisconsin that will challenge you as a pilot whether you are a Student Pilot or an Airline Transport Pilot that is seeking to become a better\, safer pilot. We will talk about simulator training as an effective\, low cost training tool if used on a recurrent basis to make all of us better\, safer pilots. \nSpeaker:\nJurg Grossenbacher\n\n\n1 Credit for Basic Knowledge Topic 2
URL:https://www.moreyairport.com/event/wings-seminar-accidents-reviewed/
LOCATION:Morey Airplane Company\, 8300 Airport Road\, Middleton\, WI\, 53562\, United States
CATEGORIES:FAA Safety Seminars
END:VEVENT
END:VCALENDAR