BEGIN:VCALENDAR
VERSION:2.0
PRODID:-//Morey Airplane Company - ECPv6.15.11//NONSGML v1.0//EN
CALSCALE:GREGORIAN
METHOD:PUBLISH
X-WR-CALNAME:Morey Airplane Company
X-ORIGINAL-URL:https://www.moreyairport.com
X-WR-CALDESC:Events for Morey Airplane Company
REFRESH-INTERVAL;VALUE=DURATION:PT1H
X-Robots-Tag:noindex
X-PUBLISHED-TTL:PT1H
BEGIN:VTIMEZONE
TZID:America/Chicago
BEGIN:DAYLIGHT
TZOFFSETFROM:-0600
TZOFFSETTO:-0500
TZNAME:CDT
DTSTART:20180311T080000
END:DAYLIGHT
BEGIN:STANDARD
TZOFFSETFROM:-0500
TZOFFSETTO:-0600
TZNAME:CST
DTSTART:20181104T070000
END:STANDARD
BEGIN:DAYLIGHT
TZOFFSETFROM:-0600
TZOFFSETTO:-0500
TZNAME:CDT
DTSTART:20190310T080000
END:DAYLIGHT
BEGIN:STANDARD
TZOFFSETFROM:-0500
TZOFFSETTO:-0600
TZNAME:CST
DTSTART:20191103T070000
END:STANDARD
BEGIN:DAYLIGHT
TZOFFSETFROM:-0600
TZOFFSETTO:-0500
TZNAME:CDT
DTSTART:20200308T080000
END:DAYLIGHT
BEGIN:STANDARD
TZOFFSETFROM:-0500
TZOFFSETTO:-0600
TZNAME:CST
DTSTART:20201101T070000
END:STANDARD
BEGIN:DAYLIGHT
TZOFFSETFROM:-0600
TZOFFSETTO:-0500
TZNAME:CDT
DTSTART:20210314T080000
END:DAYLIGHT
BEGIN:STANDARD
TZOFFSETFROM:-0500
TZOFFSETTO:-0600
TZNAME:CST
DTSTART:20211107T070000
END:STANDARD
BEGIN:DAYLIGHT
TZOFFSETFROM:-0600
TZOFFSETTO:-0500
TZNAME:CDT
DTSTART:20220313T080000
END:DAYLIGHT
BEGIN:STANDARD
TZOFFSETFROM:-0500
TZOFFSETTO:-0600
TZNAME:CST
DTSTART:20221106T070000
END:STANDARD
BEGIN:DAYLIGHT
TZOFFSETFROM:-0600
TZOFFSETTO:-0500
TZNAME:CDT
DTSTART:20230312T080000
END:DAYLIGHT
BEGIN:STANDARD
TZOFFSETFROM:-0500
TZOFFSETTO:-0600
TZNAME:CST
DTSTART:20231105T070000
END:STANDARD
BEGIN:DAYLIGHT
TZOFFSETFROM:-0600
TZOFFSETTO:-0500
TZNAME:CDT
DTSTART:20240310T080000
END:DAYLIGHT
BEGIN:STANDARD
TZOFFSETFROM:-0500
TZOFFSETTO:-0600
TZNAME:CST
DTSTART:20241103T070000
END:STANDARD
BEGIN:DAYLIGHT
TZOFFSETFROM:-0600
TZOFFSETTO:-0500
TZNAME:CDT
DTSTART:20250309T080000
END:DAYLIGHT
BEGIN:STANDARD
TZOFFSETFROM:-0500
TZOFFSETTO:-0600
TZNAME:CST
DTSTART:20251102T070000
END:STANDARD
BEGIN:DAYLIGHT
TZOFFSETFROM:-0600
TZOFFSETTO:-0500
TZNAME:CDT
DTSTART:20260308T080000
END:DAYLIGHT
BEGIN:STANDARD
TZOFFSETFROM:-0500
TZOFFSETTO:-0600
TZNAME:CST
DTSTART:20261101T070000
END:STANDARD
BEGIN:DAYLIGHT
TZOFFSETFROM:-0600
TZOFFSETTO:-0500
TZNAME:CDT
DTSTART:20270314T080000
END:DAYLIGHT
BEGIN:STANDARD
TZOFFSETFROM:-0500
TZOFFSETTO:-0600
TZNAME:CST
DTSTART:20271107T070000
END:STANDARD
END:VTIMEZONE
BEGIN:VEVENT
DTSTART;TZID=America/Chicago:20260330T180000
DTEND;TZID=America/Chicago:20260330T203000
DTSTAMP:20260424T073321
CREATED:20260220T225307Z
LAST-MODIFIED:20260220T225307Z
UID:5915-1774893600-1774902600@www.moreyairport.com
SUMMARY:Wings Seminar: Accidents Reviewed
DESCRIPTION:If you fly Airplanes and You want to learn from other pilots mistakes\, then you need to come to this FAA Safety Seminar. \nJurg Grossenbacher\, FPM from the Milwaukee FAA\, will speak on this topic. We will discuss the issues that are hurting our GA pilots but\, more importantly\, on the topic of what you can do to stay safe and proficient throughout the year. \nWe will talk about Knowledge and Flight Training in detail. We will discuss the programs available to you right here in Wisconsin that will challenge you as a pilot whether you are a Student Pilot or an Airline Transport Pilot that is seeking to become a better\, safer pilot. We will talk about simulator training as an effective\, low cost training tool if used on a recurrent basis to make all of us better\, safer pilots. \nSpeaker:\nJurg Grossenbacher\n\n\n1 Credit for Basic Knowledge Topic 2
URL:https://www.moreyairport.com/event/wings-seminar-accidents-reviewed/
LOCATION:Morey Airplane Company\, 8300 Airport Road\, Middleton\, WI\, 53562\, United States
CATEGORIES:FAA Safety Seminars
END:VEVENT
BEGIN:VEVENT
DTSTART;TZID=America/Chicago:20260129T183000
DTEND;TZID=America/Chicago:20260129T200000
DTSTAMP:20260424T073321
CREATED:20260113T152805Z
LAST-MODIFIED:20260113T152805Z
UID:5894-1769711400-1769716800@www.moreyairport.com
SUMMARY:Wings Seminar: Winter Operations
DESCRIPTION:If you fly GA Airplanes in Winter in Wisconsin then this seminar is for You! \nWinter is here!  Winter weather adds challenges for the pilot.  Topics covered will include pre-flight considerations\, how to stay warm in the cold\, when and how to pre-heat and many more topics.  Presented by Richard Morey\, an inspection authorized mechanic and senior flight instructor.
URL:https://www.moreyairport.com/event/wings-seminar-winter-operations/
LOCATION:Morey Airplane Company\, 8300 Airport Road\, Middleton\, WI\, 53562\, United States
CATEGORIES:FAA Safety Seminars
END:VEVENT
BEGIN:VEVENT
DTSTART;TZID=America/Chicago:20251023T183000
DTEND;TZID=America/Chicago:20251023T210000
DTSTAMP:20260424T073321
CREATED:20250925T221748Z
LAST-MODIFIED:20250925T221748Z
UID:5886-1761244200-1761253200@www.moreyairport.com
SUMMARY:Wings Seminar
DESCRIPTION:False Sense of Security
URL:https://www.moreyairport.com/event/wings-seminar-4/
LOCATION:Morey Airplane Company\, 8300 Airport Road\, Middleton\, WI\, 53562\, United States
CATEGORIES:FAA Safety Seminars
END:VEVENT
BEGIN:VEVENT
DTSTART;TZID=America/Chicago:20250603T190000
DTEND;TZID=America/Chicago:20250603T210000
DTSTAMP:20260424T073321
CREATED:20250528T184648Z
LAST-MODIFIED:20250528T184648Z
UID:5771-1748977200-1748984400@www.moreyairport.com
SUMMARY:Women in Aviation
DESCRIPTION:Short & Soft Field Procedures
URL:https://www.moreyairport.com/event/women-in-aviation/
LOCATION:Morey Airplane Company\, 8300 Airport Road\, Middleton\, WI\, 53562\, United States
CATEGORIES:FAA Safety Seminars
ORGANIZER;CN="Morey Airplane Company":MAILTO:c29@moreyairport.com
END:VEVENT
BEGIN:VEVENT
DTSTART;TZID=America/Chicago:20241023T180000
DTEND;TZID=America/Chicago:20241023T203000
DTSTAMP:20260424T073321
CREATED:20240829T160010Z
LAST-MODIFIED:20241021T203754Z
UID:5480-1729706400-1729715400@www.moreyairport.com
SUMMARY:FAA Safety Seminar
DESCRIPTION:Winter Operations\, \nWright Brothers Award to Richard Morey 7:00 p.m. reception to follow. \n  \n 
URL:https://www.moreyairport.com/event/faa-safety-seminar-2/
LOCATION:Morey Airplane Company\, 8300 Airport Road\, Middleton\, WI\, 53562\, United States
CATEGORIES:FAA Safety Seminars
END:VEVENT
BEGIN:VEVENT
DTSTART;TZID=America/Chicago:20240822T180000
DTEND;TZID=America/Chicago:20240822T200000
DTSTAMP:20260424T073321
CREATED:20240813T153155Z
LAST-MODIFIED:20240813T153218Z
UID:5440-1724349600-1724356800@www.moreyairport.com
SUMMARY:Public benefit flying-rewards & pitfalls
DESCRIPTION:Registration is encouraged.
URL:https://www.moreyairport.com/event/public-benefit-flying-rewards-pitfalls/
LOCATION:WI
CATEGORIES:FAA Safety Seminars
END:VEVENT
BEGIN:VEVENT
DTSTART;TZID=America/Chicago:20220712T180000
DTEND;TZID=America/Chicago:20220712T200000
DTSTAMP:20260424T073321
CREATED:20220525T132236Z
LAST-MODIFIED:20220525T132342Z
UID:4788-1657648800-1657656000@www.moreyairport.com
SUMMARY:Meet your Madison Air Traffic Controller
DESCRIPTION:
URL:https://www.moreyairport.com/event/meet-your-madison-air-traffic-controller/
LOCATION:Morey Airplane Company\, 8300 Airport Road\, Middleton\, WI\, 53562\, United States
CATEGORIES:FAA Safety Seminars
END:VEVENT
BEGIN:VEVENT
DTSTART;TZID=America/Chicago:20220616T183000
DTEND;TZID=America/Chicago:20220616T203000
DTSTAMP:20260424T073321
CREATED:20220525T132039Z
LAST-MODIFIED:20220525T132324Z
UID:4783-1655404200-1655411400@www.moreyairport.com
SUMMARY:Engine Failure and Startle Effect
DESCRIPTION:
URL:https://www.moreyairport.com/event/engine-failure-and-startle-effect/
LOCATION:Morey Airplane Company\, 8300 Airport Road\, Middleton\, WI\, 53562\, United States
CATEGORIES:FAA Safety Seminars
END:VEVENT
BEGIN:VEVENT
DTSTART;TZID=America/Chicago:20210324T183000
DTEND;TZID=America/Chicago:20210324T193000
DTSTAMP:20260424T073321
CREATED:20210305T201905Z
LAST-MODIFIED:20210305T202454Z
UID:4446-1616610600-1616614200@www.moreyairport.com
SUMMARY:Wings Webinar
DESCRIPTION:March Wings Webinar is titled Ground Operations at Towered and Pilot Controlled Airports. 
URL:https://www.moreyairport.com/event/wings-webinar-3/
LOCATION:WI
CATEGORIES:FAA Safety Seminars
END:VEVENT
BEGIN:VEVENT
DTSTART;TZID=America/Chicago:20210224T183000
DTEND;TZID=America/Chicago:20210224T200000
DTSTAMP:20260424T073321
CREATED:20210113T184817Z
LAST-MODIFIED:20210211T161511Z
UID:4348-1614191400-1614196800@www.moreyairport.com
SUMMARY:Wings Webinar
DESCRIPTION:Traffic Pattern Procedures at Pilot Controlled Airports\, Wednesday\, February 24 at 6:30 p.m. \n\n\n\nSelect Number:\nGL13103126Description: \nThis webinar consists of a combination of presentation and discussion.  The subject webinar focuses on safe operations at non-towered airports\, particularly those with high traffic density and a mix of aircraft performance profiles. FAA recommendations and regulations are presented and attendees are invited to offer observations on the meaning and implementation of those regulations and recommendations. \nTo view further details and registration information for this webinar\, click here. \nThe sponsor for this seminar is: FAASTeam \nThe following credit(s) are available for the WINGS/AMT Programs: \nBasic Knowledge 3 – 1 Credit\nAdvanced Knowledge 1 – 1 Credit \nClick here to view the WINGS help page\n\n\n\nEarn your WINGS to get a chance to win a cash prize. Go to www.mywingsinitiative.org for more info. Join us on Facebook: https://www.facebook.com/groups/GASafety/
URL:https://www.moreyairport.com/event/wings-webinar-2/
LOCATION:WI
CATEGORIES:FAA Safety Seminars
END:VEVENT
BEGIN:VEVENT
DTSTART;TZID=America/Chicago:20210127T183000
DTEND;TZID=America/Chicago:20210127T200000
DTSTAMP:20260424T073321
CREATED:20210111T212234Z
LAST-MODIFIED:20210111T212242Z
UID:4345-1611772200-1611777600@www.moreyairport.com
SUMMARY:Wings Webinar
DESCRIPTION:Special Use Airspace webinar Wednesday\, January 27\, 2021 at 6:30 p.m. \nLink to zoom meeting:  https://us02web.zoom.us/j/6195256305?pwd=ZDVXc1gyRHRiTUwySUJQWDZTeDhPQT09
URL:https://www.moreyairport.com/event/wings-webinar/
LOCATION:WI
CATEGORIES:FAA Safety Seminars
END:VEVENT
BEGIN:VEVENT
DTSTART;TZID=America/Chicago:20200527T180000
DTEND;TZID=America/Chicago:20200527T200000
DTSTAMP:20260424T073321
CREATED:20200301T162514Z
LAST-MODIFIED:20200519T131336Z
UID:1845-1590602400-1590609600@www.moreyairport.com
SUMMARY:Avoiding Ground Operation Violations at Towered Airports
DESCRIPTION:DUE TO HEALTH CONCERNS THE SEMINAR HAS BEEN REPLACED BY A WEBINAR SEE LINK BELOW TO REGISTER \nBuilding on more than eighty years of safety driven aviation instruction\, the Morey Airplane Company is expanding our knowledge course offerings. In addition to the private pilot and instrument courses\, we now offer monthly seminars covering topics pertinent to all levels of pilot experience. \n\n\nThis two hour event consists of two parts.  The first portion consists of an FAA prepared video covering operations an signage permitting\, interactive participation by the group.  The second of the two hours will be a general discussion\, with examples of operations and violations at  Wisconsin towered Airports.  Participants are  invited to bring examples and questions from their own experiences. \n\n\n\nParticipants of this session can earn 1 Credit for Basic Knowledge Topic 3 in the FAA WINGS program. For more information and to register for this seminar\, visit http://www.faasafety.gov/SPANS/event_details.aspx?eid=99321
URL:https://www.moreyairport.com/event/avoiding-ground-operation-violations-at-towered-airports/
LOCATION:Morey Airplane Company\, 8300 Airport Road\, Middleton\, WI\, 53562\, United States
CATEGORIES:FAA Safety Seminars
ATTACH;FMTTYPE=image/jpeg:https://www.moreyairport.com/wp-content/uploads/2020/03/KMSN.jpg
ORGANIZER;CN="Morey Airplane Company":MAILTO:c29@moreyairport.com
END:VEVENT
BEGIN:VEVENT
DTSTART;TZID=America/Chicago:20200512T190000
DTEND;TZID=America/Chicago:20200512T210000
DTSTAMP:20260424T073321
CREATED:20200428T152644Z
LAST-MODIFIED:20200428T152644Z
UID:2506-1589310000-1589317200@www.moreyairport.com
SUMMARY:How long has it really been?
DESCRIPTION:If you are like many of our pilots in Wisconsin you probably have been standing on the sideline due to weather\, COVID -19 or any other issues that plague all of us.
URL:https://www.moreyairport.com/event/how-long-has-it-really-been/
LOCATION:WI
CATEGORIES:FAA Safety Seminars
END:VEVENT
BEGIN:VEVENT
DTSTART;TZID=America/Chicago:20191209T183000
DTEND;TZID=America/Chicago:20191209T200000
DTSTAMP:20260424T073321
CREATED:20191030T175831Z
LAST-MODIFIED:20191204T162619Z
UID:798-1575916200-1575921600@www.moreyairport.com
SUMMARY:WINGS Seminar: Icing
DESCRIPTION:Building on more than eighty years of safety driven aviation instruction\, the Morey Airplane Company is expanding our knowledge course offerings. In addition to the private pilot and instrument courses\, we now offer monthly seminars covering topics pertinent to all levels of pilot experience. \nJoin us on Monday\, December 9th at 6:30 pm in the Morey Airport conference room for an exciting and informative discussion on icing and how to avoid it. \nParticipants of this session can earn credit in the FAA WINGS program. \nFor more information and to register for this seminar\, visit: http://www.faasafety.gov/SPANS/event_details.aspx?eid=97353
URL:https://www.moreyairport.com/event/wings-seminar-icing/
LOCATION:Morey Airplane Company\, 8300 Airport Road\, Middleton\, WI\, 53562\, United States
CATEGORIES:FAA Safety Seminars
ATTACH;FMTTYPE=image/jpeg:https://www.moreyairport.com/wp-content/uploads/2019/10/Icing.jpg
ORGANIZER;CN="Morey Airplane Company":MAILTO:c29@moreyairport.com
END:VEVENT
BEGIN:VEVENT
DTSTART;TZID=America/Chicago:20191116T100000
DTEND;TZID=America/Chicago:20191116T120000
DTSTAMP:20260424T073321
CREATED:20191104T164302Z
LAST-MODIFIED:20191104T205101Z
UID:812-1573898400-1573905600@www.moreyairport.com
SUMMARY:WINGS Seminar: Co-Habitation of Helicopters and Fixed Wing Aircraft
DESCRIPTION:Building on more than eighty years of safety driven aviation instruction\, the Morey Airplane Company is expanding our knowledge course offerings. In addition to the private pilot and instrument courses\, we now offer monthly seminars covering topics pertinent to all levels of pilot experience. \nHelicopter pilots are required to “avoid the flow” of fixed wing traffic when operating at uncontrolled airports.  That’s not as simple as it sounds and the pathway to avoiding an accident is grounded in compliance with traffic pattern rules and efficient communications.  This presentation is oriented for both fixed and rotary wing pilots. \nA variation of this presentation will be presented at the FAA’s 2020 International Rotorcraft Safety Conference in Fort Worth\, TX. \nThe presentation format is a guided discussion and participation from the attendees is strongly encouraged \nThe presenter is a retired U.S. Army Aviator who currently serves as a medical helicopter pilot for a regional academic medical center. \nParticipants of this session can earn credit in the FAA WINGS program. \nMore information is available at: https://www.faasafety.gov/SPANS/event_details.aspx?eid=96852
URL:https://www.moreyairport.com/event/wings-seminar-co-habitation-of-helicopters-and-fixed-wing-aircraft/
LOCATION:Morey Airplane Company\, 8300 Airport Road\, Middleton\, WI\, 53562\, United States
CATEGORIES:FAA Safety Seminars
ATTACH;FMTTYPE=image/jpeg:https://www.moreyairport.com/wp-content/uploads/2019/11/Helicopter.jpg
ORGANIZER;CN="Morey Airplane Company":MAILTO:c29@moreyairport.com
END:VEVENT
BEGIN:VEVENT
DTSTART;TZID=America/Chicago:20191104T183000
DTEND;TZID=America/Chicago:20191104T200000
DTSTAMP:20260424T073321
CREATED:20191001T211953Z
LAST-MODIFIED:20191003T153735Z
UID:701-1572892200-1572897600@www.moreyairport.com
SUMMARY:WINGS Seminar: ICAO Flight Plans
DESCRIPTION:Building on more than eighty years of safety driven aviation instruction\, the Morey Airplane Company is expanding our knowledge course offerings. In addition to the private pilot and instrument courses\, we now offer monthly seminars covering topics pertinent to all levels of pilot experience. \nWhile most pilots are familiar with the process of filing FAA flight plans\, the new ICAO flight plan requirement mandated in August 2019 has left a lot of us scratching our heads. \nIn this seminar we will cover how to manually fill in ICAO flight plans\, their differences from FAA flight plans\, and how to use technology such as ForeFlight and 1800WxBrief.com to simplify the flight planning process. \nParticipants of this session can earn 1 Credit for Basic Knowledge Topic 1 in the FAA WINGS program. \nMore information is available at: https://www.faasafety.gov/SPANS/event_details.aspx?eid=96230
URL:https://www.moreyairport.com/event/wings-seminar-icao-flight-plans/
LOCATION:Morey Airplane Company\, 8300 Airport Road\, Middleton\, WI\, 53562\, United States
CATEGORIES:FAA Safety Seminars
ATTACH;FMTTYPE=image/jpeg:https://www.moreyairport.com/wp-content/uploads/2019/10/71539609_2511398618883638_4193905177926828032_n.jpg
ORGANIZER;CN="Morey Airplane Company":MAILTO:c29@moreyairport.com
END:VEVENT
BEGIN:VEVENT
DTSTART;TZID=America/Chicago:20191023T183000
DTEND;TZID=America/Chicago:20191023T200000
DTSTAMP:20260424T073321
CREATED:20190930T133331Z
LAST-MODIFIED:20190930T133331Z
UID:684-1571855400-1571860800@www.moreyairport.com
SUMMARY:WINGS Seminar: NOTAMS - What You Need to Know
DESCRIPTION:Building on more than eighty years of safety driven aviation instruction\, the Morey Airplane Company is expanding our knowledge course offerings. In addition to the private pilot and instrument courses\, we now offer monthly seminars covering topics pertinent to all levels of pilot experience. \nWhile aviation charts\, instrument approach plates\, and chart supplements contain a wealth of information\, they don’t always have the most up-to-date information. \nThis presentation on NOTAMs can help you discover the skills and tools to access the latest flight information. \nIn this seminar\, we will discuss: \n\nTypes of NOTAMs and their components\nResources for accessing this critical information\nTemporary flight restrictions and how to avoid them\n\nParticipants of this session can earn 1 Credit for Basic Knowledge Topic 1 in the FAA WINGS program. \nMore information is available at: https://www.faasafety.gov/SPANS/event_details.aspx?eid=95599
URL:https://www.moreyairport.com/event/wings-seminar-notams-what-you-need-to-know/
LOCATION:Morey Airplane Company\, 8300 Airport Road\, Middleton\, WI\, 53562\, United States
CATEGORIES:FAA Safety Seminars
ORGANIZER;CN="Morey Airplane Company":MAILTO:c29@moreyairport.com
END:VEVENT
BEGIN:VEVENT
DTSTART;TZID=America/Chicago:20190925T183000
DTEND;TZID=America/Chicago:20190925T203000
DTSTAMP:20260424T073321
CREATED:20190911T160925Z
LAST-MODIFIED:20190911T180555Z
UID:620-1569436200-1569443400@www.moreyairport.com
SUMMARY:WINGS Seminar: IFR Approach Charts for the VFR Pilot
DESCRIPTION:Building on more than eighty years of safety driven aviation instruction\, the Morey Airplane Company is expanding our knowledge course offerings. In addition to the private pilot and instrument courses\, we now offer monthly seminars covering topics pertinent to all levels of pilot experience. \nU.S. Terminal Procedures\, (TERPS)\, can provide valuable Information to the VFR pilot as well as the instrument pilot. This information can aid in situational awareness\, traffic avoidance\, navigation and obstacle awareness as well as other information. \nThis seminar discusses what and where\, information useful to VFR operations is contained in these publications. TERPS are available free to anyone willing to download them from the FAA or can be purchased from various commercial sources. This is not a seminar intended to teach Instrument Pilots the use of the TERPS\, rather it is to introduce the VFR pilot to a valuable source of useful information \nParticipants of this session can earn 1 Credit for Basic Knowledge Topic 1 and 1/2 credit for Advance Knowledge Topic 2 in the FAA WINGS program. \nMore information is available at: http://www.faasafety.gov/SPANS/event_details.aspx?eid=95629
URL:https://www.moreyairport.com/event/ifr-approach-charts-for-the-vfr-pilot/
LOCATION:Morey Airplane Company\, 8300 Airport Road\, Middleton\, WI\, 53562\, United States
CATEGORIES:FAA Safety Seminars
ATTACH;FMTTYPE=image/jpeg:https://www.moreyairport.com/wp-content/uploads/2019/09/Clouds.jpg
ORGANIZER;CN="Morey Airplane Company":MAILTO:c29@moreyairport.com
END:VEVENT
BEGIN:VEVENT
DTSTART;TZID=America/Chicago:20190919T183000
DTEND;TZID=America/Chicago:20190919T203000
DTSTAMP:20260424T073321
CREATED:20190911T175359Z
LAST-MODIFIED:20190911T180612Z
UID:633-1568917800-1568925000@www.moreyairport.com
SUMMARY:WINGS Seminar: Introduction to Instrument Rating Requirements
DESCRIPTION:Building on more than eighty years of safety driven aviation instruction\, the Morey Airplane Company is expanding our knowledge course offerings. In addition to the private pilot and instrument courses\, we now offer monthly seminars covering topics pertinent to all levels of pilot experience. \nThis two hour seminar is the initial session of the Morey Instrument Knowledge Course. In addition to the rating requirements\, including flight and knowledge requirements\, key regulations and experience requirements are discussed. \nParticipants of this session can earn 1 Credit for Basic Knowledge Topic 3 in the FAA WINGS program. \nMore information is available at: https://www.faasafety.gov/SPANS/event_details.aspx?eid=95148
URL:https://www.moreyairport.com/event/introduction-to-instrument-rating-requirements/
LOCATION:Morey Airplane Company\, 8300 Airport Road\, Middleton\, WI\, 53562\, United States
CATEGORIES:FAA Safety Seminars
ATTACH;FMTTYPE=image/jpeg:https://www.moreyairport.com/wp-content/uploads/2019/09/Clouds.jpg
ORGANIZER;CN="Morey Airplane Company":MAILTO:c29@moreyairport.com
END:VEVENT
END:VCALENDAR