BEGIN:VCALENDAR
VERSION:2.0
PRODID:-//Morey Airplane Company - ECPv6.15.11//NONSGML v1.0//EN
CALSCALE:GREGORIAN
METHOD:PUBLISH
X-ORIGINAL-URL:https://www.moreyairport.com
X-WR-CALDESC:Events for Morey Airplane Company
REFRESH-INTERVAL;VALUE=DURATION:PT1H
X-Robots-Tag:noindex
X-PUBLISHED-TTL:PT1H
BEGIN:VTIMEZONE
TZID:America/Chicago
BEGIN:DAYLIGHT
TZOFFSETFROM:-0600
TZOFFSETTO:-0500
TZNAME:CDT
DTSTART:20230312T080000
END:DAYLIGHT
BEGIN:STANDARD
TZOFFSETFROM:-0500
TZOFFSETTO:-0600
TZNAME:CST
DTSTART:20231105T070000
END:STANDARD
BEGIN:DAYLIGHT
TZOFFSETFROM:-0600
TZOFFSETTO:-0500
TZNAME:CDT
DTSTART:20240310T080000
END:DAYLIGHT
BEGIN:STANDARD
TZOFFSETFROM:-0500
TZOFFSETTO:-0600
TZNAME:CST
DTSTART:20241103T070000
END:STANDARD
BEGIN:DAYLIGHT
TZOFFSETFROM:-0600
TZOFFSETTO:-0500
TZNAME:CDT
DTSTART:20250309T080000
END:DAYLIGHT
BEGIN:STANDARD
TZOFFSETFROM:-0500
TZOFFSETTO:-0600
TZNAME:CST
DTSTART:20251102T070000
END:STANDARD
END:VTIMEZONE
BEGIN:VEVENT
DTSTART;TZID=America/Chicago:20240817T080000
DTEND;TZID=America/Chicago:20240817T120000
DTSTAMP:20260425T062515
CREATED:20240327T210141Z
LAST-MODIFIED:20240429T201809Z
UID:5303-1723881600-1723896000@www.moreyairport.com
SUMMARY:Young Eagles
DESCRIPTION:Join EAA Chapter 93 as we host our Young Eagles Rally on Saturday\, August 17th\, 2024!\nPre-registration is highly encouraged.
URL:https://www.moreyairport.com/event/young-eagles/
LOCATION:WI
ORGANIZER;CN="EAA Chapter 93":MAILTO:brian.terry@charter.net
END:VEVENT
BEGIN:VEVENT
DTSTART;TZID=America/Chicago:20240822T180000
DTEND;TZID=America/Chicago:20240822T200000
DTSTAMP:20260425T062515
CREATED:20240813T153155Z
LAST-MODIFIED:20240813T153218Z
UID:5440-1724349600-1724356800@www.moreyairport.com
SUMMARY:Public benefit flying-rewards & pitfalls
DESCRIPTION:Registration is encouraged.
URL:https://www.moreyairport.com/event/public-benefit-flying-rewards-pitfalls/
LOCATION:WI
CATEGORIES:FAA Safety Seminars
END:VEVENT
BEGIN:VEVENT
DTSTART;TZID=America/Chicago:20240827T183000
DTEND;TZID=America/Chicago:20240827T203000
DTSTAMP:20260425T062515
CREATED:20240522T215117Z
LAST-MODIFIED:20240528T213054Z
UID:5351-1724783400-1724790600@www.moreyairport.com
SUMMARY:Private Pilot Ground School
DESCRIPTION:The 2024 Fall Ground School begins with a course introduction and registration on Tuesday\, August 27 at 6:30 p.m. in the Morey Airplane Company conference room located in the terminal building. \nThe course introduction is an opportunity to meet the instructors\, learn about the topics covered and the required materials and supplies\, and review the class schedule. You will also see the training aircraft used for flight instruction. If you decide to enroll\, you may register and pay for Ground School at this time. \nClasses begin the following Tuesday (September 3) at 6:30 p.m. All classes are held in the airport conference room. \nThe cost of the Ground School\, including tax\, is $508.80. Materials and supplies are additional and cost approximately $98.00. Supplies are available at our office and can be ordered during the introduction. \n 
URL:https://www.moreyairport.com/event/private-pilot-ground-school-3/
LOCATION:Morey Airplane Company\, 8300 Airport Road\, Middleton\, WI\, 53562\, United States
END:VEVENT
END:VCALENDAR