BEGIN:VCALENDAR
VERSION:2.0
PRODID:-//Morey Airplane Company - ECPv6.15.11//NONSGML v1.0//EN
CALSCALE:GREGORIAN
METHOD:PUBLISH
X-ORIGINAL-URL:https://www.moreyairport.com
X-WR-CALDESC:Events for Morey Airplane Company
REFRESH-INTERVAL;VALUE=DURATION:PT1H
X-Robots-Tag:noindex
X-PUBLISHED-TTL:PT1H
BEGIN:VTIMEZONE
TZID:America/Chicago
BEGIN:DAYLIGHT
TZOFFSETFROM:-0600
TZOFFSETTO:-0500
TZNAME:CDT
DTSTART:20240310T080000
END:DAYLIGHT
BEGIN:STANDARD
TZOFFSETFROM:-0500
TZOFFSETTO:-0600
TZNAME:CST
DTSTART:20241103T070000
END:STANDARD
BEGIN:DAYLIGHT
TZOFFSETFROM:-0600
TZOFFSETTO:-0500
TZNAME:CDT
DTSTART:20250309T080000
END:DAYLIGHT
BEGIN:STANDARD
TZOFFSETFROM:-0500
TZOFFSETTO:-0600
TZNAME:CST
DTSTART:20251102T070000
END:STANDARD
BEGIN:DAYLIGHT
TZOFFSETFROM:-0600
TZOFFSETTO:-0500
TZNAME:CDT
DTSTART:20260308T080000
END:DAYLIGHT
BEGIN:STANDARD
TZOFFSETFROM:-0500
TZOFFSETTO:-0600
TZNAME:CST
DTSTART:20261101T070000
END:STANDARD
END:VTIMEZONE
BEGIN:VEVENT
DTSTART;TZID=America/Chicago:20250909T183000
DTEND;TZID=America/Chicago:20251202T203000
DTSTAMP:20260424T093121
CREATED:20241210T175310Z
LAST-MODIFIED:20250214T164304Z
UID:5560-1757442600-1764707400@www.moreyairport.com
SUMMARY:Private Pilot Ground School
DESCRIPTION:The 2025 Fall Ground School begins with a course introduction and registration on Tuesday\, September 9 at 6:30 p.m. in the Morey Airplane Company conference room located in the terminal building. \nThe course introduction is an opportunity to meet the instructors\, learn about the topics covered and the required materials and supplies\, and review the class schedule. You will also see the training aircraft used for flight instruction. If you decide to enroll\, you may register and pay for Ground School at this time. \nClasses begin the following Tuesday (September 16) at 6:30 p.m. All classes are held in the airport conference room. \nThe cost of the Ground School\, including tax\, is $508.80 (subject to change). Materials and supplies are additional and cost approximately $98.00. Supplies are available at our office and can be ordered during the introduction. \nNOTE:  MINIMUM OF EIGHT PARTICIPANTS REQUIRED
URL:https://www.moreyairport.com/event/private-pilot-ground-school-4/
LOCATION:WI
ORGANIZER;CN="Morey Airplane Company":MAILTO:c29@moreyairport.com
END:VEVENT
END:VCALENDAR