BEGIN:VCALENDAR
VERSION:2.0
PRODID:-//Morey Airplane Company - ECPv6.15.11//NONSGML v1.0//EN
CALSCALE:GREGORIAN
METHOD:PUBLISH
X-ORIGINAL-URL:https://www.moreyairport.com
X-WR-CALDESC:Events for Morey Airplane Company
REFRESH-INTERVAL;VALUE=DURATION:PT1H
X-Robots-Tag:noindex
X-PUBLISHED-TTL:PT1H
BEGIN:VTIMEZONE
TZID:America/Chicago
BEGIN:DAYLIGHT
TZOFFSETFROM:-0600
TZOFFSETTO:-0500
TZNAME:CDT
DTSTART:20250309T080000
END:DAYLIGHT
BEGIN:STANDARD
TZOFFSETFROM:-0500
TZOFFSETTO:-0600
TZNAME:CST
DTSTART:20251102T070000
END:STANDARD
BEGIN:DAYLIGHT
TZOFFSETFROM:-0600
TZOFFSETTO:-0500
TZNAME:CDT
DTSTART:20260308T080000
END:DAYLIGHT
BEGIN:STANDARD
TZOFFSETFROM:-0500
TZOFFSETTO:-0600
TZNAME:CST
DTSTART:20261101T070000
END:STANDARD
BEGIN:DAYLIGHT
TZOFFSETFROM:-0600
TZOFFSETTO:-0500
TZNAME:CDT
DTSTART:20270314T080000
END:DAYLIGHT
BEGIN:STANDARD
TZOFFSETFROM:-0500
TZOFFSETTO:-0600
TZNAME:CST
DTSTART:20271107T070000
END:STANDARD
END:VTIMEZONE
BEGIN:VEVENT
DTSTART;TZID=America/Chicago:20260129T183000
DTEND;TZID=America/Chicago:20260129T200000
DTSTAMP:20260424T072858
CREATED:20260113T152805Z
LAST-MODIFIED:20260113T152805Z
UID:5894-1769711400-1769716800@www.moreyairport.com
SUMMARY:Wings Seminar: Winter Operations
DESCRIPTION:If you fly GA Airplanes in Winter in Wisconsin then this seminar is for You! \nWinter is here!  Winter weather adds challenges for the pilot.  Topics covered will include pre-flight considerations\, how to stay warm in the cold\, when and how to pre-heat and many more topics.  Presented by Richard Morey\, an inspection authorized mechanic and senior flight instructor.
URL:https://www.moreyairport.com/event/wings-seminar-winter-operations/
LOCATION:Morey Airplane Company\, 8300 Airport Road\, Middleton\, WI\, 53562\, United States
CATEGORIES:FAA Safety Seminars
END:VEVENT
END:VCALENDAR